BEGIN:VCALENDAR
VERSION:2.0
PRODID:-//YWCA York - ECPv6.15.20//NONSGML v1.0//EN
CALSCALE:GREGORIAN
METHOD:PUBLISH
X-WR-CALNAME:YWCA York
X-ORIGINAL-URL:https://ywcayork.org
X-WR-CALDESC:Events for YWCA York
REFRESH-INTERVAL;VALUE=DURATION:PT1H
X-Robots-Tag:noindex
X-PUBLISHED-TTL:PT1H
BEGIN:VTIMEZONE
TZID:America/New_York
BEGIN:DAYLIGHT
TZOFFSETFROM:-0500
TZOFFSETTO:-0400
TZNAME:EDT
DTSTART:20240310T070000
END:DAYLIGHT
BEGIN:STANDARD
TZOFFSETFROM:-0400
TZOFFSETTO:-0500
TZNAME:EST
DTSTART:20241103T060000
END:STANDARD
BEGIN:DAYLIGHT
TZOFFSETFROM:-0500
TZOFFSETTO:-0400
TZNAME:EDT
DTSTART:20250309T070000
END:DAYLIGHT
BEGIN:STANDARD
TZOFFSETFROM:-0400
TZOFFSETTO:-0500
TZNAME:EST
DTSTART:20251102T060000
END:STANDARD
BEGIN:DAYLIGHT
TZOFFSETFROM:-0500
TZOFFSETTO:-0400
TZNAME:EDT
DTSTART:20260308T070000
END:DAYLIGHT
BEGIN:STANDARD
TZOFFSETFROM:-0400
TZOFFSETTO:-0500
TZNAME:EST
DTSTART:20261101T060000
END:STANDARD
END:VTIMEZONE
BEGIN:VEVENT
DTSTART;VALUE=DATE:20250327
DTEND;VALUE=DATE:20250328
DTSTAMP:20260424T173743
CREATED:20250116T141822Z
LAST-MODIFIED:20250220T183611Z
UID:11772-1743033600-1743119999@ywcayork.org
SUMMARY:YWCA York's 2025 Dorrie Leader Advocacy Award Luncheon
DESCRIPTION:  \nYWCA York’s 2025 Dorrie Leader Advocacy Award Luncheon\n  \nCelebrate the Incredible Legacy of Mrs. Leader\nNominate a woman for the 2025 Dorrie Leader Advocacy Award who champions social justice issues in York.\n  \nVisit here to nominate a deserving woman in York County for the 2025 Dorrie Leader Advocacy Award.
URL:https://ywcayork.org/event/ywca-yorks-2025-dorrie-leader-advocacy-awards/
CATEGORIES:Special Events
END:VEVENT
END:VCALENDAR