BEGIN:VCALENDAR
VERSION:2.0
PRODID:-//YWCA York - ECPv6.15.20//NONSGML v1.0//EN
CALSCALE:GREGORIAN
METHOD:PUBLISH
X-ORIGINAL-URL:https://ywcayork.org
X-WR-CALDESC:Events for YWCA York
REFRESH-INTERVAL;VALUE=DURATION:PT1H
X-Robots-Tag:noindex
X-PUBLISHED-TTL:PT1H
BEGIN:VTIMEZONE
TZID:America/New_York
BEGIN:DAYLIGHT
TZOFFSETFROM:-0500
TZOFFSETTO:-0400
TZNAME:EDT
DTSTART:20230312T070000
END:DAYLIGHT
BEGIN:STANDARD
TZOFFSETFROM:-0400
TZOFFSETTO:-0500
TZNAME:EST
DTSTART:20231105T060000
END:STANDARD
BEGIN:DAYLIGHT
TZOFFSETFROM:-0500
TZOFFSETTO:-0400
TZNAME:EDT
DTSTART:20240310T070000
END:DAYLIGHT
BEGIN:STANDARD
TZOFFSETFROM:-0400
TZOFFSETTO:-0500
TZNAME:EST
DTSTART:20241103T060000
END:STANDARD
BEGIN:DAYLIGHT
TZOFFSETFROM:-0500
TZOFFSETTO:-0400
TZNAME:EDT
DTSTART:20250309T070000
END:DAYLIGHT
BEGIN:STANDARD
TZOFFSETFROM:-0400
TZOFFSETTO:-0500
TZNAME:EST
DTSTART:20251102T060000
END:STANDARD
END:VTIMEZONE
BEGIN:VEVENT
DTSTART;TZID=America/New_York:20241010T060000
DTEND;TZID=America/New_York:20241010T203000
DTSTAMP:20260422T060520
CREATED:20240123T021916Z
LAST-MODIFIED:20240123T021916Z
UID:10031904-1728540000-1728592200@ywcayork.org
SUMMARY:Lap Swim - Morning
DESCRIPTION:
URL:https://ywcayork.org/event/lap-swim-morning-t-th/2024-10-10/
LOCATION:YWCA York\, 320 East Market Street\, York\, PA\, 17403
CATEGORIES:Aquatics
ORGANIZER;CN="Kathy Warner":MAILTO:kwarner@ywcayork.org
END:VEVENT
BEGIN:VEVENT
DTSTART;TZID=America/New_York:20241010T083000
DTEND;TZID=America/New_York:20241010T093000
DTSTAMP:20260422T060520
CREATED:20240104T040111Z
LAST-MODIFIED:20240122T183034Z
UID:10018500-1728549000-1728552600@ywcayork.org
SUMMARY:Aqua Fit
DESCRIPTION:High energy class with music. Cardio variety combined with exercise for overall muscle conditioning.
URL:https://ywcayork.org/event/aqua-fit/2024-10-10/
LOCATION:YWCA York\, 320 East Market Street\, York\, PA\, 17403
CATEGORIES:Aquatics
END:VEVENT
BEGIN:VEVENT
DTSTART;TZID=America/New_York:20241010T093000
DTEND;TZID=America/New_York:20241010T223000
DTSTAMP:20260422T060520
CREATED:20240123T005838Z
LAST-MODIFIED:20240123T005838Z
UID:10025835-1728552600-1728599400@ywcayork.org
SUMMARY:20-20-20
DESCRIPTION:A total body workout with 20 minute segments of cardiovascular\, strength\, and stretch routines.
URL:https://ywcayork.org/event/20-20-20-3-2/2024-10-10/
LOCATION:YWCA York\, 320 East Market Street\, York\, PA\, 17403
CATEGORIES:Aquatics
END:VEVENT
BEGIN:VEVENT
DTSTART;TZID=America/New_York:20241010T103000
DTEND;TZID=America/New_York:20241010T113000
DTSTAMP:20260422T060520
CREATED:20240104T040609Z
LAST-MODIFIED:20240122T183706Z
UID:10025569-1728556200-1728559800@ywcayork.org
SUMMARY:Mindful Waves
DESCRIPTION:Flow through Yoga\, Pilates and Thai-Chi moves in a relaxing atmosphere using the resistance of water.
URL:https://ywcayork.org/event/mindful-waves-2/2024-10-10/
LOCATION:YWCA York\, 320 East Market Street\, York\, PA\, 17403
CATEGORIES:Aquatics
END:VEVENT
BEGIN:VEVENT
DTSTART;TZID=America/New_York:20241010T120000
DTEND;TZID=America/New_York:20241010T130000
DTSTAMP:20260422T060521
CREATED:20240123T022223Z
LAST-MODIFIED:20240123T022223Z
UID:10032539-1728561600-1728565200@ywcayork.org
SUMMARY:Lap Swim - Afternoon
DESCRIPTION:
URL:https://ywcayork.org/event/lap-swim-afternoon/2024-10-10/
LOCATION:YWCA York\, 320 East Market Street\, York\, PA\, 17403
CATEGORIES:Aquatics
ORGANIZER;CN="Kathy Warner":MAILTO:kwarner@ywcayork.org
END:VEVENT
BEGIN:VEVENT
DTSTART;TZID=America/New_York:20241010T173000
DTEND;TZID=America/New_York:20241010T200000
DTSTAMP:20260422T060521
CREATED:20240820T191330Z
LAST-MODIFIED:20240820T191557Z
UID:10034191-1728581400-1728590400@ywcayork.org
SUMMARY:YWomenVote GenZ 2024 York Town Hall
DESCRIPTION:  \nAbout the Town Hall\n\n\n\nAt YWCA York\, we are on a mission to celebrate the dynamic voices of Gen Z. The YWomenVote  GenZ York Town Hall will provide a nonpartisan forum for the diverse\, impactful opinions of young women\, girls and nonbinary young people to influence national discourse and shape effective policy solutions as we approach the 2024 Presidential Election.
URL:https://ywcayork.org/event/ywomenvote-genz-2024-york-town-hall/
LOCATION:YWCA York\, 320 East Market Street\, York\, PA\, 17403
CATEGORIES:Special Events
ORGANIZER;CN="YWCA York":MAILTO:info@ywcayork.org
END:VEVENT
END:VCALENDAR