BEGIN:VCALENDAR
VERSION:2.0
PRODID:-//YWCA York - ECPv6.15.20//NONSGML v1.0//EN
CALSCALE:GREGORIAN
METHOD:PUBLISH
X-ORIGINAL-URL:https://ywcayork.org
X-WR-CALDESC:Events for YWCA York
REFRESH-INTERVAL;VALUE=DURATION:PT1H
X-Robots-Tag:noindex
X-PUBLISHED-TTL:PT1H
BEGIN:VTIMEZONE
TZID:America/New_York
BEGIN:DAYLIGHT
TZOFFSETFROM:-0500
TZOFFSETTO:-0400
TZNAME:EDT
DTSTART:20250309T070000
END:DAYLIGHT
BEGIN:STANDARD
TZOFFSETFROM:-0400
TZOFFSETTO:-0500
TZNAME:EST
DTSTART:20251102T060000
END:STANDARD
BEGIN:DAYLIGHT
TZOFFSETFROM:-0500
TZOFFSETTO:-0400
TZNAME:EDT
DTSTART:20260308T070000
END:DAYLIGHT
BEGIN:STANDARD
TZOFFSETFROM:-0400
TZOFFSETTO:-0500
TZNAME:EST
DTSTART:20261101T060000
END:STANDARD
BEGIN:DAYLIGHT
TZOFFSETFROM:-0500
TZOFFSETTO:-0400
TZNAME:EDT
DTSTART:20270314T070000
END:DAYLIGHT
BEGIN:STANDARD
TZOFFSETFROM:-0400
TZOFFSETTO:-0500
TZNAME:EST
DTSTART:20271107T060000
END:STANDARD
END:VTIMEZONE
BEGIN:VEVENT
DTSTART;TZID=America/New_York:20260109T060000
DTEND;TZID=America/New_York:20260109T090000
DTSTAMP:20260425T081309
CREATED:20240123T015551Z
LAST-MODIFIED:20240123T021748Z
UID:10031353-1767938400-1767949200@ywcayork.org
SUMMARY:Lap Swim - Morning
DESCRIPTION:
URL:https://ywcayork.org/event/lap-swim-morning-m-w-f/2026-01-09/
LOCATION:YWCA York\, 320 East Market Street\, York\, PA\, 17403
CATEGORIES:Aquatics
ORGANIZER;CN="Kathy Warner":MAILTO:kwarner@ywcayork.org
END:VEVENT
BEGIN:VEVENT
DTSTART;TZID=America/New_York:20260109T090000
DTEND;TZID=America/New_York:20260109T100000
DTSTAMP:20260425T081309
CREATED:20240104T015748Z
LAST-MODIFIED:20240122T183213Z
UID:10020843-1767949200-1767952800@ywcayork.org
SUMMARY:Golden Waves
DESCRIPTION:Follows the Arthritis Foundation’s guidelines. Gentle moves to improve flexibility\, strength\, and coordination.
URL:https://ywcayork.org/event/golden-waves/2026-01-09/
LOCATION:YWCA York\, 320 East Market Street\, York\, PA\, 17403
CATEGORIES:Aquatics
END:VEVENT
BEGIN:VEVENT
DTSTART;TZID=America/New_York:20260109T120000
DTEND;TZID=America/New_York:20260109T130000
DTSTAMP:20260425T081310
CREATED:20240123T022223Z
LAST-MODIFIED:20240123T022223Z
UID:10032865-1767960000-1767963600@ywcayork.org
SUMMARY:Lap Swim - Afternoon
DESCRIPTION:
URL:https://ywcayork.org/event/lap-swim-afternoon/2026-01-09/
LOCATION:YWCA York\, 320 East Market Street\, York\, PA\, 17403
CATEGORIES:Aquatics
ORGANIZER;CN="Kathy Warner":MAILTO:kwarner@ywcayork.org
END:VEVENT
BEGIN:VEVENT
DTSTART;TZID=America/New_York:20260109T190000
DTEND;TZID=America/New_York:20260109T200000
DTSTAMP:20260425T081310
CREATED:20240104T042757Z
LAST-MODIFIED:20240122T183137Z
UID:10019843-1767985200-1767988800@ywcayork.org
SUMMARY:Family Swim
DESCRIPTION:
URL:https://ywcayork.org/event/family-swim/2026-01-09/
LOCATION:YWCA York\, 320 East Market Street\, York\, PA\, 17403
CATEGORIES:Aquatics
END:VEVENT
BEGIN:VEVENT
DTSTART;TZID=America/New_York:20260109T200000
DTEND;TZID=America/New_York:20260109T210000
DTSTAMP:20260425T081310
CREATED:20240830T235906Z
LAST-MODIFIED:20240831T000345Z
UID:10033862-1767988800-1767992400@ywcayork.org
SUMMARY:Lap Swim - Evening
DESCRIPTION:
URL:https://ywcayork.org/event/lap-swim-evening-2/2026-01-09/
LOCATION:YWCA York\, 320 East Market Street\, York\, PA\, 17403
CATEGORIES:Aquatics
ORGANIZER;CN="Kathy Warner":MAILTO:kwarner@ywcayork.org
END:VEVENT
END:VCALENDAR