BEGIN:VCALENDAR
VERSION:2.0
PRODID:-//YWCA York - ECPv6.15.20//NONSGML v1.0//EN
CALSCALE:GREGORIAN
METHOD:PUBLISH
X-ORIGINAL-URL:https://ywcayork.org
X-WR-CALDESC:Events for YWCA York
REFRESH-INTERVAL;VALUE=DURATION:PT1H
X-Robots-Tag:noindex
X-PUBLISHED-TTL:PT1H
BEGIN:VTIMEZONE
TZID:America/New_York
BEGIN:DAYLIGHT
TZOFFSETFROM:-0500
TZOFFSETTO:-0400
TZNAME:EDT
DTSTART:20250309T070000
END:DAYLIGHT
BEGIN:STANDARD
TZOFFSETFROM:-0400
TZOFFSETTO:-0500
TZNAME:EST
DTSTART:20251102T060000
END:STANDARD
BEGIN:DAYLIGHT
TZOFFSETFROM:-0500
TZOFFSETTO:-0400
TZNAME:EDT
DTSTART:20260308T070000
END:DAYLIGHT
BEGIN:STANDARD
TZOFFSETFROM:-0400
TZOFFSETTO:-0500
TZNAME:EST
DTSTART:20261101T060000
END:STANDARD
BEGIN:DAYLIGHT
TZOFFSETFROM:-0500
TZOFFSETTO:-0400
TZNAME:EDT
DTSTART:20270314T070000
END:DAYLIGHT
BEGIN:STANDARD
TZOFFSETFROM:-0400
TZOFFSETTO:-0500
TZNAME:EST
DTSTART:20271107T060000
END:STANDARD
END:VTIMEZONE
BEGIN:VEVENT
DTSTART;TZID=America/New_York:20261027T060000
DTEND;TZID=America/New_York:20261027T203000
DTSTAMP:20260421T111418
CREATED:20240123T021916Z
LAST-MODIFIED:20240123T021916Z
UID:10032117-1793080800-1793133000@ywcayork.org
SUMMARY:Lap Swim - Morning
DESCRIPTION:
URL:https://ywcayork.org/event/lap-swim-morning-t-th/2026-10-27/
LOCATION:YWCA York\, 320 East Market Street\, York\, PA\, 17403
CATEGORIES:Aquatics
ORGANIZER;CN="Kathy Warner":MAILTO:kwarner@ywcayork.org
END:VEVENT
BEGIN:VEVENT
DTSTART;TZID=America/New_York:20261027T083000
DTEND;TZID=America/New_York:20261027T093000
DTSTAMP:20260421T111418
CREATED:20240104T040111Z
LAST-MODIFIED:20240122T183034Z
UID:10018713-1793089800-1793093400@ywcayork.org
SUMMARY:Aqua Fit
DESCRIPTION:High energy class with music. Cardio variety combined with exercise for overall muscle conditioning.
URL:https://ywcayork.org/event/aqua-fit/2026-10-27/
LOCATION:YWCA York\, 320 East Market Street\, York\, PA\, 17403
CATEGORIES:Aquatics
END:VEVENT
BEGIN:VEVENT
DTSTART;TZID=America/New_York:20261027T120000
DTEND;TZID=America/New_York:20261027T130000
DTSTAMP:20260421T111418
CREATED:20240123T022223Z
LAST-MODIFIED:20240123T022223Z
UID:10033072-1793102400-1793106000@ywcayork.org
SUMMARY:Lap Swim - Afternoon
DESCRIPTION:
URL:https://ywcayork.org/event/lap-swim-afternoon/2026-10-27/
LOCATION:YWCA York\, 320 East Market Street\, York\, PA\, 17403
CATEGORIES:Aquatics
ORGANIZER;CN="Kathy Warner":MAILTO:kwarner@ywcayork.org
END:VEVENT
BEGIN:VEVENT
DTSTART;TZID=America/New_York:20261027T140000
DTEND;TZID=America/New_York:20261027T150000
DTSTAMP:20260421T111418
CREATED:20240104T040427Z
LAST-MODIFIED:20240122T183619Z
UID:10025413-1793109600-1793113200@ywcayork.org
SUMMARY:Mindful Waves
DESCRIPTION:Flow through Yoga\, Pilates and Thai-Chi moves in a relaxing atmosphere using the resistance of water.
URL:https://ywcayork.org/event/mindful-waves/2026-10-27/
LOCATION:YWCA York\, 320 East Market Street\, York\, PA\, 17403
CATEGORIES:Aquatics
END:VEVENT
BEGIN:VEVENT
DTSTART;TZID=America/New_York:20261027T200000
DTEND;TZID=America/New_York:20261027T210000
DTSTAMP:20260421T111418
CREATED:20240104T040918Z
LAST-MODIFIED:20240122T183753Z
UID:10017238-1793131200-1793134800@ywcayork.org
SUMMARY:Swim Strong
DESCRIPTION:Lap swimmers join a group workout to improve conditioning and stroke efficiency. Great for triathlon athletes.
URL:https://ywcayork.org/event/swim-strong/2026-10-27/
LOCATION:YWCA York\, 320 East Market Street\, York\, PA\, 17403
CATEGORIES:Aquatics
END:VEVENT
END:VCALENDAR