BEGIN:VCALENDAR
VERSION:2.0
PRODID:-//YWCA York - ECPv6.15.20//NONSGML v1.0//EN
CALSCALE:GREGORIAN
METHOD:PUBLISH
X-ORIGINAL-URL:https://ywcayork.org
X-WR-CALDESC:Events for YWCA York
REFRESH-INTERVAL;VALUE=DURATION:PT1H
X-Robots-Tag:noindex
X-PUBLISHED-TTL:PT1H
BEGIN:VTIMEZONE
TZID:America/New_York
BEGIN:DAYLIGHT
TZOFFSETFROM:-0500
TZOFFSETTO:-0400
TZNAME:EDT
DTSTART:20250309T070000
END:DAYLIGHT
BEGIN:STANDARD
TZOFFSETFROM:-0400
TZOFFSETTO:-0500
TZNAME:EST
DTSTART:20251102T060000
END:STANDARD
BEGIN:DAYLIGHT
TZOFFSETFROM:-0500
TZOFFSETTO:-0400
TZNAME:EDT
DTSTART:20260308T070000
END:DAYLIGHT
BEGIN:STANDARD
TZOFFSETFROM:-0400
TZOFFSETTO:-0500
TZNAME:EST
DTSTART:20261101T060000
END:STANDARD
BEGIN:DAYLIGHT
TZOFFSETFROM:-0500
TZOFFSETTO:-0400
TZNAME:EDT
DTSTART:20270314T070000
END:DAYLIGHT
BEGIN:STANDARD
TZOFFSETFROM:-0400
TZOFFSETTO:-0500
TZNAME:EST
DTSTART:20271107T060000
END:STANDARD
END:VTIMEZONE
BEGIN:VEVENT
DTSTART;TZID=America/New_York:20261217T060000
DTEND;TZID=America/New_York:20261217T203000
DTSTAMP:20260421T103320
CREATED:20240123T021916Z
LAST-MODIFIED:20240123T021916Z
UID:10032132-1797487200-1797539400@ywcayork.org
SUMMARY:Lap Swim - Morning
DESCRIPTION:
URL:https://ywcayork.org/event/lap-swim-morning-t-th/2026-12-17/
LOCATION:YWCA York\, 320 East Market Street\, York\, PA\, 17403
CATEGORIES:Aquatics
ORGANIZER;CN="Kathy Warner":MAILTO:kwarner@ywcayork.org
END:VEVENT
BEGIN:VEVENT
DTSTART;TZID=America/New_York:20261217T083000
DTEND;TZID=America/New_York:20261217T093000
DTSTAMP:20260421T103320
CREATED:20240104T040111Z
LAST-MODIFIED:20240122T183034Z
UID:10018728-1797496200-1797499800@ywcayork.org
SUMMARY:Aqua Fit
DESCRIPTION:High energy class with music. Cardio variety combined with exercise for overall muscle conditioning.
URL:https://ywcayork.org/event/aqua-fit/2026-12-17/
LOCATION:YWCA York\, 320 East Market Street\, York\, PA\, 17403
CATEGORIES:Aquatics
END:VEVENT
BEGIN:VEVENT
DTSTART;TZID=America/New_York:20261217T093000
DTEND;TZID=America/New_York:20261217T223000
DTSTAMP:20260421T103320
CREATED:20240123T005838Z
LAST-MODIFIED:20240123T005838Z
UID:10025949-1797499800-1797546600@ywcayork.org
SUMMARY:20-20-20
DESCRIPTION:A total body workout with 20 minute segments of cardiovascular\, strength\, and stretch routines.
URL:https://ywcayork.org/event/20-20-20-3-2/2026-12-17/
LOCATION:YWCA York\, 320 East Market Street\, York\, PA\, 17403
CATEGORIES:Aquatics
END:VEVENT
BEGIN:VEVENT
DTSTART;TZID=America/New_York:20261217T103000
DTEND;TZID=America/New_York:20261217T113000
DTSTAMP:20260421T103320
CREATED:20240104T040609Z
LAST-MODIFIED:20240122T183706Z
UID:10025683-1797503400-1797507000@ywcayork.org
SUMMARY:Mindful Waves
DESCRIPTION:Flow through Yoga\, Pilates and Thai-Chi moves in a relaxing atmosphere using the resistance of water.
URL:https://ywcayork.org/event/mindful-waves-2/2026-12-17/
LOCATION:YWCA York\, 320 East Market Street\, York\, PA\, 17403
CATEGORIES:Aquatics
END:VEVENT
BEGIN:VEVENT
DTSTART;TZID=America/New_York:20261217T120000
DTEND;TZID=America/New_York:20261217T130000
DTSTAMP:20260421T103320
CREATED:20240123T022223Z
LAST-MODIFIED:20240123T022223Z
UID:10033109-1797508800-1797512400@ywcayork.org
SUMMARY:Lap Swim - Afternoon
DESCRIPTION:
URL:https://ywcayork.org/event/lap-swim-afternoon/2026-12-17/
LOCATION:YWCA York\, 320 East Market Street\, York\, PA\, 17403
CATEGORIES:Aquatics
ORGANIZER;CN="Kathy Warner":MAILTO:kwarner@ywcayork.org
END:VEVENT
END:VCALENDAR