BEGIN:VCALENDAR
VERSION:2.0
PRODID:-//YWCA York - ECPv6.15.20//NONSGML v1.0//EN
CALSCALE:GREGORIAN
METHOD:PUBLISH
X-WR-CALNAME:YWCA York
X-ORIGINAL-URL:https://ywcayork.org
X-WR-CALDESC:Events for YWCA York
REFRESH-INTERVAL;VALUE=DURATION:PT1H
X-Robots-Tag:noindex
X-PUBLISHED-TTL:PT1H
BEGIN:VTIMEZONE
TZID:America/New_York
BEGIN:DAYLIGHT
TZOFFSETFROM:-0500
TZOFFSETTO:-0400
TZNAME:EDT
DTSTART:20250309T070000
END:DAYLIGHT
BEGIN:STANDARD
TZOFFSETFROM:-0400
TZOFFSETTO:-0500
TZNAME:EST
DTSTART:20251102T060000
END:STANDARD
BEGIN:DAYLIGHT
TZOFFSETFROM:-0500
TZOFFSETTO:-0400
TZNAME:EDT
DTSTART:20260308T070000
END:DAYLIGHT
BEGIN:STANDARD
TZOFFSETFROM:-0400
TZOFFSETTO:-0500
TZNAME:EST
DTSTART:20261101T060000
END:STANDARD
BEGIN:DAYLIGHT
TZOFFSETFROM:-0500
TZOFFSETTO:-0400
TZNAME:EDT
DTSTART:20270314T070000
END:DAYLIGHT
BEGIN:STANDARD
TZOFFSETFROM:-0400
TZOFFSETTO:-0500
TZNAME:EST
DTSTART:20271107T060000
END:STANDARD
END:VTIMEZONE
BEGIN:VEVENT
DTSTART;TZID=America/New_York:20261102T110000
DTEND;TZID=America/New_York:20261102T120000
DTSTAMP:20260421T084655
CREATED:20240104T025628Z
LAST-MODIFIED:20240122T185409Z
UID:10019622-1793617200-1793620800@ywcayork.org
SUMMARY:Deep Water
DESCRIPTION:Exercise in the deep water using floatation belts and water bells with no stress on the joints.
URL:https://ywcayork.org/event/deep-water/2026-11-02/
LOCATION:YWCA York\, 320 East Market Street\, York\, PA\, 17403
CATEGORIES:Aquatics
END:VEVENT
BEGIN:VEVENT
DTSTART;TZID=America/New_York:20261102T120000
DTEND;TZID=America/New_York:20261102T130000
DTSTAMP:20260421T084655
CREATED:20240123T022223Z
LAST-MODIFIED:20240123T022223Z
UID:10033076-1793620800-1793624400@ywcayork.org
SUMMARY:Lap Swim - Afternoon
DESCRIPTION:
URL:https://ywcayork.org/event/lap-swim-afternoon/2026-11-02/
LOCATION:YWCA York\, 320 East Market Street\, York\, PA\, 17403
CATEGORIES:Aquatics
ORGANIZER;CN="Kathy Warner":MAILTO:kwarner@ywcayork.org
END:VEVENT
BEGIN:VEVENT
DTSTART;TZID=America/New_York:20261102T140000
DTEND;TZID=America/New_York:20261102T150000
DTSTAMP:20260421T084655
CREATED:20240103T094953Z
LAST-MODIFIED:20240122T183017Z
UID:10018304-1793628000-1793631600@ywcayork.org
SUMMARY:20-20-20
DESCRIPTION:A total body workout with 20 minute segments of cardiovascular\, strength\, and stretch routines
URL:https://ywcayork.org/event/20-20-20/2026-11-02/
LOCATION:YWCA York\, 320 East Market Street\, York\, PA\, 17403
CATEGORIES:Aquatics
END:VEVENT
BEGIN:VEVENT
DTSTART;TZID=America/New_York:20261103T060000
DTEND;TZID=America/New_York:20261103T203000
DTSTAMP:20260421T084655
CREATED:20240123T021916Z
LAST-MODIFIED:20240123T021916Z
UID:10032119-1793685600-1793737800@ywcayork.org
SUMMARY:Lap Swim - Morning
DESCRIPTION:
URL:https://ywcayork.org/event/lap-swim-morning-t-th/2026-11-03/
LOCATION:YWCA York\, 320 East Market Street\, York\, PA\, 17403
CATEGORIES:Aquatics
ORGANIZER;CN="Kathy Warner":MAILTO:kwarner@ywcayork.org
END:VEVENT
BEGIN:VEVENT
DTSTART;TZID=America/New_York:20261103T083000
DTEND;TZID=America/New_York:20261103T093000
DTSTAMP:20260421T084655
CREATED:20240104T040111Z
LAST-MODIFIED:20240122T183034Z
UID:10018715-1793694600-1793698200@ywcayork.org
SUMMARY:Aqua Fit
DESCRIPTION:High energy class with music. Cardio variety combined with exercise for overall muscle conditioning.
URL:https://ywcayork.org/event/aqua-fit/2026-11-03/
LOCATION:YWCA York\, 320 East Market Street\, York\, PA\, 17403
CATEGORIES:Aquatics
END:VEVENT
BEGIN:VEVENT
DTSTART;TZID=America/New_York:20261103T120000
DTEND;TZID=America/New_York:20261103T130000
DTSTAMP:20260421T084655
CREATED:20240123T022223Z
LAST-MODIFIED:20240123T022223Z
UID:10033077-1793707200-1793710800@ywcayork.org
SUMMARY:Lap Swim - Afternoon
DESCRIPTION:
URL:https://ywcayork.org/event/lap-swim-afternoon/2026-11-03/
LOCATION:YWCA York\, 320 East Market Street\, York\, PA\, 17403
CATEGORIES:Aquatics
ORGANIZER;CN="Kathy Warner":MAILTO:kwarner@ywcayork.org
END:VEVENT
BEGIN:VEVENT
DTSTART;TZID=America/New_York:20261103T140000
DTEND;TZID=America/New_York:20261103T150000
DTSTAMP:20260421T084655
CREATED:20240104T040427Z
LAST-MODIFIED:20240122T183619Z
UID:10025414-1793714400-1793718000@ywcayork.org
SUMMARY:Mindful Waves
DESCRIPTION:Flow through Yoga\, Pilates and Thai-Chi moves in a relaxing atmosphere using the resistance of water.
URL:https://ywcayork.org/event/mindful-waves/2026-11-03/
LOCATION:YWCA York\, 320 East Market Street\, York\, PA\, 17403
CATEGORIES:Aquatics
END:VEVENT
BEGIN:VEVENT
DTSTART;TZID=America/New_York:20261103T200000
DTEND;TZID=America/New_York:20261103T210000
DTSTAMP:20260421T084655
CREATED:20240104T040918Z
LAST-MODIFIED:20240122T183753Z
UID:10017239-1793736000-1793739600@ywcayork.org
SUMMARY:Swim Strong
DESCRIPTION:Lap swimmers join a group workout to improve conditioning and stroke efficiency. Great for triathlon athletes.
URL:https://ywcayork.org/event/swim-strong/2026-11-03/
LOCATION:YWCA York\, 320 East Market Street\, York\, PA\, 17403
CATEGORIES:Aquatics
END:VEVENT
BEGIN:VEVENT
DTSTART;TZID=America/New_York:20261104T060000
DTEND;TZID=America/New_York:20261104T090000
DTSTAMP:20260421T084655
CREATED:20240123T015551Z
LAST-MODIFIED:20240123T021748Z
UID:10031481-1793772000-1793782800@ywcayork.org
SUMMARY:Lap Swim - Morning
DESCRIPTION:
URL:https://ywcayork.org/event/lap-swim-morning-m-w-f/2026-11-04/
LOCATION:YWCA York\, 320 East Market Street\, York\, PA\, 17403
CATEGORIES:Aquatics
ORGANIZER;CN="Kathy Warner":MAILTO:kwarner@ywcayork.org
END:VEVENT
BEGIN:VEVENT
DTSTART;TZID=America/New_York:20261104T090000
DTEND;TZID=America/New_York:20261104T100000
DTSTAMP:20260421T084655
CREATED:20240104T015748Z
LAST-MODIFIED:20240122T183213Z
UID:10020971-1793782800-1793786400@ywcayork.org
SUMMARY:Golden Waves
DESCRIPTION:Follows the Arthritis Foundation’s guidelines. Gentle moves to improve flexibility\, strength\, and coordination.
URL:https://ywcayork.org/event/golden-waves/2026-11-04/
LOCATION:YWCA York\, 320 East Market Street\, York\, PA\, 17403
CATEGORIES:Aquatics
END:VEVENT
BEGIN:VEVENT
DTSTART;TZID=America/New_York:20261104T100000
DTEND;TZID=America/New_York:20261104T110000
DTSTAMP:20260421T084655
CREATED:20240104T041513Z
LAST-MODIFIED:20240123T010253Z
UID:10019359-1793786400-1793790000@ywcayork.org
SUMMARY:Deep Water
DESCRIPTION:Exercise in the deep water using floatation belts and water bells with no stress on the joints.
URL:https://ywcayork.org/event/deep-water-2/2026-11-04/
LOCATION:YWCA York\, 320 East Market Street\, York\, PA\, 17403
CATEGORIES:Aquatics
END:VEVENT
BEGIN:VEVENT
DTSTART;TZID=America/New_York:20261104T120000
DTEND;TZID=America/New_York:20261104T130000
DTSTAMP:20260421T084655
CREATED:20240123T022223Z
LAST-MODIFIED:20240123T022223Z
UID:10033078-1793793600-1793797200@ywcayork.org
SUMMARY:Lap Swim - Afternoon
DESCRIPTION:
URL:https://ywcayork.org/event/lap-swim-afternoon/2026-11-04/
LOCATION:YWCA York\, 320 East Market Street\, York\, PA\, 17403
CATEGORIES:Aquatics
ORGANIZER;CN="Kathy Warner":MAILTO:kwarner@ywcayork.org
END:VEVENT
BEGIN:VEVENT
DTSTART;TZID=America/New_York:20261104T200000
DTEND;TZID=America/New_York:20261104T210000
DTSTAMP:20260421T084655
CREATED:20240830T235906Z
LAST-MODIFIED:20240831T000345Z
UID:10033947-1793822400-1793826000@ywcayork.org
SUMMARY:Lap Swim - Evening
DESCRIPTION:
URL:https://ywcayork.org/event/lap-swim-evening-2/2026-11-04/
LOCATION:YWCA York\, 320 East Market Street\, York\, PA\, 17403
CATEGORIES:Aquatics
ORGANIZER;CN="Kathy Warner":MAILTO:kwarner@ywcayork.org
END:VEVENT
BEGIN:VEVENT
DTSTART;TZID=America/New_York:20261105T060000
DTEND;TZID=America/New_York:20261105T203000
DTSTAMP:20260421T084655
CREATED:20240123T021916Z
LAST-MODIFIED:20240123T021916Z
UID:10032120-1793858400-1793910600@ywcayork.org
SUMMARY:Lap Swim - Morning
DESCRIPTION:
URL:https://ywcayork.org/event/lap-swim-morning-t-th/2026-11-05/
LOCATION:YWCA York\, 320 East Market Street\, York\, PA\, 17403
CATEGORIES:Aquatics
ORGANIZER;CN="Kathy Warner":MAILTO:kwarner@ywcayork.org
END:VEVENT
BEGIN:VEVENT
DTSTART;TZID=America/New_York:20261105T083000
DTEND;TZID=America/New_York:20261105T093000
DTSTAMP:20260421T084655
CREATED:20240104T040111Z
LAST-MODIFIED:20240122T183034Z
UID:10018716-1793867400-1793871000@ywcayork.org
SUMMARY:Aqua Fit
DESCRIPTION:High energy class with music. Cardio variety combined with exercise for overall muscle conditioning.
URL:https://ywcayork.org/event/aqua-fit/2026-11-05/
LOCATION:YWCA York\, 320 East Market Street\, York\, PA\, 17403
CATEGORIES:Aquatics
END:VEVENT
BEGIN:VEVENT
DTSTART;TZID=America/New_York:20261105T093000
DTEND;TZID=America/New_York:20261105T223000
DTSTAMP:20260421T084655
CREATED:20240123T005838Z
LAST-MODIFIED:20240123T005838Z
UID:10025943-1793871000-1793917800@ywcayork.org
SUMMARY:20-20-20
DESCRIPTION:A total body workout with 20 minute segments of cardiovascular\, strength\, and stretch routines.
URL:https://ywcayork.org/event/20-20-20-3-2/2026-11-05/
LOCATION:YWCA York\, 320 East Market Street\, York\, PA\, 17403
CATEGORIES:Aquatics
END:VEVENT
BEGIN:VEVENT
DTSTART;TZID=America/New_York:20261105T103000
DTEND;TZID=America/New_York:20261105T113000
DTSTAMP:20260421T084655
CREATED:20240104T040609Z
LAST-MODIFIED:20240122T183706Z
UID:10025677-1793874600-1793878200@ywcayork.org
SUMMARY:Mindful Waves
DESCRIPTION:Flow through Yoga\, Pilates and Thai-Chi moves in a relaxing atmosphere using the resistance of water.
URL:https://ywcayork.org/event/mindful-waves-2/2026-11-05/
LOCATION:YWCA York\, 320 East Market Street\, York\, PA\, 17403
CATEGORIES:Aquatics
END:VEVENT
BEGIN:VEVENT
DTSTART;TZID=America/New_York:20261105T120000
DTEND;TZID=America/New_York:20261105T130000
DTSTAMP:20260421T084655
CREATED:20240123T022223Z
LAST-MODIFIED:20240123T022223Z
UID:10033079-1793880000-1793883600@ywcayork.org
SUMMARY:Lap Swim - Afternoon
DESCRIPTION:
URL:https://ywcayork.org/event/lap-swim-afternoon/2026-11-05/
LOCATION:YWCA York\, 320 East Market Street\, York\, PA\, 17403
CATEGORIES:Aquatics
ORGANIZER;CN="Kathy Warner":MAILTO:kwarner@ywcayork.org
END:VEVENT
BEGIN:VEVENT
DTSTART;TZID=America/New_York:20261106T060000
DTEND;TZID=America/New_York:20261106T090000
DTSTAMP:20260421T084655
CREATED:20240123T015551Z
LAST-MODIFIED:20240123T021748Z
UID:10031482-1793944800-1793955600@ywcayork.org
SUMMARY:Lap Swim - Morning
DESCRIPTION:
URL:https://ywcayork.org/event/lap-swim-morning-m-w-f/2026-11-06/
LOCATION:YWCA York\, 320 East Market Street\, York\, PA\, 17403
CATEGORIES:Aquatics
ORGANIZER;CN="Kathy Warner":MAILTO:kwarner@ywcayork.org
END:VEVENT
BEGIN:VEVENT
DTSTART;TZID=America/New_York:20261106T090000
DTEND;TZID=America/New_York:20261106T100000
DTSTAMP:20260421T084655
CREATED:20240104T015748Z
LAST-MODIFIED:20240122T183213Z
UID:10020972-1793955600-1793959200@ywcayork.org
SUMMARY:Golden Waves
DESCRIPTION:Follows the Arthritis Foundation’s guidelines. Gentle moves to improve flexibility\, strength\, and coordination.
URL:https://ywcayork.org/event/golden-waves/2026-11-06/
LOCATION:YWCA York\, 320 East Market Street\, York\, PA\, 17403
CATEGORIES:Aquatics
END:VEVENT
BEGIN:VEVENT
DTSTART;TZID=America/New_York:20261106T120000
DTEND;TZID=America/New_York:20261106T130000
DTSTAMP:20260421T084656
CREATED:20240123T022223Z
LAST-MODIFIED:20240123T022223Z
UID:10033080-1793966400-1793970000@ywcayork.org
SUMMARY:Lap Swim - Afternoon
DESCRIPTION:
URL:https://ywcayork.org/event/lap-swim-afternoon/2026-11-06/
LOCATION:YWCA York\, 320 East Market Street\, York\, PA\, 17403
CATEGORIES:Aquatics
ORGANIZER;CN="Kathy Warner":MAILTO:kwarner@ywcayork.org
END:VEVENT
BEGIN:VEVENT
DTSTART;TZID=America/New_York:20261106T190000
DTEND;TZID=America/New_York:20261106T200000
DTSTAMP:20260421T084656
CREATED:20240104T042757Z
LAST-MODIFIED:20240122T183137Z
UID:10019886-1793991600-1793995200@ywcayork.org
SUMMARY:Family Swim
DESCRIPTION:
URL:https://ywcayork.org/event/family-swim/2026-11-06/
LOCATION:YWCA York\, 320 East Market Street\, York\, PA\, 17403
CATEGORIES:Aquatics
END:VEVENT
BEGIN:VEVENT
DTSTART;TZID=America/New_York:20261106T200000
DTEND;TZID=America/New_York:20261106T210000
DTSTAMP:20260421T084656
CREATED:20240830T235906Z
LAST-MODIFIED:20240831T000345Z
UID:10033948-1793995200-1793998800@ywcayork.org
SUMMARY:Lap Swim - Evening
DESCRIPTION:
URL:https://ywcayork.org/event/lap-swim-evening-2/2026-11-06/
LOCATION:YWCA York\, 320 East Market Street\, York\, PA\, 17403
CATEGORIES:Aquatics
ORGANIZER;CN="Kathy Warner":MAILTO:kwarner@ywcayork.org
END:VEVENT
BEGIN:VEVENT
DTSTART;TZID=America/New_York:20261107T123000
DTEND;TZID=America/New_York:20261107T133000
DTSTAMP:20260421T084656
CREATED:20240104T043018Z
LAST-MODIFIED:20240122T183116Z
UID:10020149-1794054600-1794058200@ywcayork.org
SUMMARY:Family Swim
DESCRIPTION:
URL:https://ywcayork.org/event/family-swim-2/2026-11-07/
LOCATION:YWCA York\, 320 East Market Street\, York\, PA\, 17403
CATEGORIES:Aquatics
END:VEVENT
BEGIN:VEVENT
DTSTART;TZID=America/New_York:20261109T060000
DTEND;TZID=America/New_York:20261109T090000
DTSTAMP:20260421T084656
CREATED:20240123T015551Z
LAST-MODIFIED:20240123T021748Z
UID:10031483-1794204000-1794214800@ywcayork.org
SUMMARY:Lap Swim - Morning
DESCRIPTION:
URL:https://ywcayork.org/event/lap-swim-morning-m-w-f/2026-11-09/
LOCATION:YWCA York\, 320 East Market Street\, York\, PA\, 17403
CATEGORIES:Aquatics
ORGANIZER;CN="Kathy Warner":MAILTO:kwarner@ywcayork.org
END:VEVENT
BEGIN:VEVENT
DTSTART;TZID=America/New_York:20261109T090000
DTEND;TZID=America/New_York:20261109T100000
DTSTAMP:20260421T084656
CREATED:20240104T015748Z
LAST-MODIFIED:20240122T183213Z
UID:10020973-1794214800-1794218400@ywcayork.org
SUMMARY:Golden Waves
DESCRIPTION:Follows the Arthritis Foundation’s guidelines. Gentle moves to improve flexibility\, strength\, and coordination.
URL:https://ywcayork.org/event/golden-waves/2026-11-09/
LOCATION:YWCA York\, 320 East Market Street\, York\, PA\, 17403
CATEGORIES:Aquatics
END:VEVENT
BEGIN:VEVENT
DTSTART;TZID=America/New_York:20261109T100000
DTEND;TZID=America/New_York:20261109T110000
DTSTAMP:20260421T084656
CREATED:20240104T022224Z
LAST-MODIFIED:20240122T183857Z
UID:10018031-1794218400-1794222000@ywcayork.org
SUMMARY:Wet N Wild
DESCRIPTION:Shallow water total body workout for adults of all abilities.
URL:https://ywcayork.org/event/wet-n-wild/2026-11-09/
LOCATION:YWCA York\, 320 East Market Street\, York\, PA\, 17403
CATEGORIES:Aquatics
END:VEVENT
BEGIN:VEVENT
DTSTART;TZID=America/New_York:20261109T110000
DTEND;TZID=America/New_York:20261109T120000
DTSTAMP:20260421T084656
CREATED:20240104T025628Z
LAST-MODIFIED:20240122T185409Z
UID:10019623-1794222000-1794225600@ywcayork.org
SUMMARY:Deep Water
DESCRIPTION:Exercise in the deep water using floatation belts and water bells with no stress on the joints.
URL:https://ywcayork.org/event/deep-water/2026-11-09/
LOCATION:YWCA York\, 320 East Market Street\, York\, PA\, 17403
CATEGORIES:Aquatics
END:VEVENT
BEGIN:VEVENT
DTSTART;TZID=America/New_York:20261109T120000
DTEND;TZID=America/New_York:20261109T130000
DTSTAMP:20260421T084656
CREATED:20240123T022223Z
LAST-MODIFIED:20240123T022223Z
UID:10033081-1794225600-1794229200@ywcayork.org
SUMMARY:Lap Swim - Afternoon
DESCRIPTION:
URL:https://ywcayork.org/event/lap-swim-afternoon/2026-11-09/
LOCATION:YWCA York\, 320 East Market Street\, York\, PA\, 17403
CATEGORIES:Aquatics
ORGANIZER;CN="Kathy Warner":MAILTO:kwarner@ywcayork.org
END:VEVENT
BEGIN:VEVENT
DTSTART;TZID=America/New_York:20261109T140000
DTEND;TZID=America/New_York:20261109T150000
DTSTAMP:20260421T084656
CREATED:20240103T094953Z
LAST-MODIFIED:20240122T183017Z
UID:10018305-1794232800-1794236400@ywcayork.org
SUMMARY:20-20-20
DESCRIPTION:A total body workout with 20 minute segments of cardiovascular\, strength\, and stretch routines
URL:https://ywcayork.org/event/20-20-20/2026-11-09/
LOCATION:YWCA York\, 320 East Market Street\, York\, PA\, 17403
CATEGORIES:Aquatics
END:VEVENT
END:VCALENDAR