BEGIN:VCALENDAR
VERSION:2.0
PRODID:-//YWCA York - ECPv6.15.20//NONSGML v1.0//EN
CALSCALE:GREGORIAN
METHOD:PUBLISH
X-ORIGINAL-URL:https://ywcayork.org
X-WR-CALDESC:Events for YWCA York
REFRESH-INTERVAL;VALUE=DURATION:PT1H
X-Robots-Tag:noindex
X-PUBLISHED-TTL:PT1H
BEGIN:VTIMEZONE
TZID:America/New_York
BEGIN:DAYLIGHT
TZOFFSETFROM:-0500
TZOFFSETTO:-0400
TZNAME:EDT
DTSTART:20250309T070000
END:DAYLIGHT
BEGIN:STANDARD
TZOFFSETFROM:-0400
TZOFFSETTO:-0500
TZNAME:EST
DTSTART:20251102T060000
END:STANDARD
BEGIN:DAYLIGHT
TZOFFSETFROM:-0500
TZOFFSETTO:-0400
TZNAME:EDT
DTSTART:20260308T070000
END:DAYLIGHT
BEGIN:STANDARD
TZOFFSETFROM:-0400
TZOFFSETTO:-0500
TZNAME:EST
DTSTART:20261101T060000
END:STANDARD
BEGIN:DAYLIGHT
TZOFFSETFROM:-0500
TZOFFSETTO:-0400
TZNAME:EDT
DTSTART:20270314T070000
END:DAYLIGHT
BEGIN:STANDARD
TZOFFSETFROM:-0400
TZOFFSETTO:-0500
TZNAME:EST
DTSTART:20271107T060000
END:STANDARD
END:VTIMEZONE
BEGIN:VEVENT
DTSTART;TZID=America/New_York:20260429T090000
DTEND;TZID=America/New_York:20260429T100000
DTSTAMP:20260421T085758
CREATED:20240104T015748Z
LAST-MODIFIED:20240122T183213Z
UID:10020890-1777453200-1777456800@ywcayork.org
SUMMARY:Golden Waves
DESCRIPTION:Follows the Arthritis Foundation’s guidelines. Gentle moves to improve flexibility\, strength\, and coordination.
URL:https://ywcayork.org/event/golden-waves/2026-04-29/
LOCATION:YWCA York\, 320 East Market Street\, York\, PA\, 17403
CATEGORIES:Aquatics
END:VEVENT
BEGIN:VEVENT
DTSTART;TZID=America/New_York:20260429T100000
DTEND;TZID=America/New_York:20260429T110000
DTSTAMP:20260421T085758
CREATED:20240104T041513Z
LAST-MODIFIED:20240123T010253Z
UID:10019332-1777456800-1777460400@ywcayork.org
SUMMARY:Deep Water
DESCRIPTION:Exercise in the deep water using floatation belts and water bells with no stress on the joints.
URL:https://ywcayork.org/event/deep-water-2/2026-04-29/
LOCATION:YWCA York\, 320 East Market Street\, York\, PA\, 17403
CATEGORIES:Aquatics
END:VEVENT
BEGIN:VEVENT
DTSTART;TZID=America/New_York:20260429T120000
DTEND;TZID=America/New_York:20260429T130000
DTSTAMP:20260421T085758
CREATED:20240123T022223Z
LAST-MODIFIED:20240123T022223Z
UID:10032943-1777464000-1777467600@ywcayork.org
SUMMARY:Lap Swim - Afternoon
DESCRIPTION:
URL:https://ywcayork.org/event/lap-swim-afternoon/2026-04-29/
LOCATION:YWCA York\, 320 East Market Street\, York\, PA\, 17403
CATEGORIES:Aquatics
ORGANIZER;CN="Kathy Warner":MAILTO:kwarner@ywcayork.org
END:VEVENT
BEGIN:VEVENT
DTSTART;TZID=America/New_York:20260429T173000
DTEND;TZID=America/New_York:20260429T183000
DTSTAMP:20260421T085758
CREATED:20240104T043742Z
LAST-MODIFIED:20240122T183909Z
UID:10017740-1777483800-1777487400@ywcayork.org
SUMMARY:Yoga From The Inside Out
DESCRIPTION:Classes include a sequence of yoga poses to create a slow unfolding – a journey of self-discovery into the personal and universal connections between mind\, body\, and spirit. These classes welcome all people regardless of their flexibility\, age\, background\, or yoga experience.
URL:https://ywcayork.org/event/yoga-from-the-inside-out/2026-04-29/
LOCATION:YWCA York\, 320 East Market Street\, York\, PA\, 17403
CATEGORIES:Yoga
END:VEVENT
BEGIN:VEVENT
DTSTART;TZID=America/New_York:20260429T200000
DTEND;TZID=America/New_York:20260429T210000
DTSTAMP:20260421T085758
CREATED:20240830T235906Z
LAST-MODIFIED:20240831T000345Z
UID:10033893-1777492800-1777496400@ywcayork.org
SUMMARY:Lap Swim - Evening
DESCRIPTION:
URL:https://ywcayork.org/event/lap-swim-evening-2/2026-04-29/
LOCATION:YWCA York\, 320 East Market Street\, York\, PA\, 17403
CATEGORIES:Aquatics
ORGANIZER;CN="Kathy Warner":MAILTO:kwarner@ywcayork.org
END:VEVENT
BEGIN:VEVENT
DTSTART;TZID=America/New_York:20260430T060000
DTEND;TZID=America/New_York:20260430T203000
DTSTAMP:20260421T085758
CREATED:20240123T021916Z
LAST-MODIFIED:20240123T021916Z
UID:10032066-1777528800-1777581000@ywcayork.org
SUMMARY:Lap Swim - Morning
DESCRIPTION:
URL:https://ywcayork.org/event/lap-swim-morning-t-th/2026-04-30/
LOCATION:YWCA York\, 320 East Market Street\, York\, PA\, 17403
CATEGORIES:Aquatics
ORGANIZER;CN="Kathy Warner":MAILTO:kwarner@ywcayork.org
END:VEVENT
BEGIN:VEVENT
DTSTART;TZID=America/New_York:20260430T083000
DTEND;TZID=America/New_York:20260430T093000
DTSTAMP:20260421T085758
CREATED:20240104T040111Z
LAST-MODIFIED:20240122T183034Z
UID:10018662-1777537800-1777541400@ywcayork.org
SUMMARY:Aqua Fit
DESCRIPTION:High energy class with music. Cardio variety combined with exercise for overall muscle conditioning.
URL:https://ywcayork.org/event/aqua-fit/2026-04-30/
LOCATION:YWCA York\, 320 East Market Street\, York\, PA\, 17403
CATEGORIES:Aquatics
END:VEVENT
BEGIN:VEVENT
DTSTART;TZID=America/New_York:20260430T093000
DTEND;TZID=America/New_York:20260430T223000
DTSTAMP:20260421T085758
CREATED:20240123T005838Z
LAST-MODIFIED:20240123T005838Z
UID:10025916-1777541400-1777588200@ywcayork.org
SUMMARY:20-20-20
DESCRIPTION:A total body workout with 20 minute segments of cardiovascular\, strength\, and stretch routines.
URL:https://ywcayork.org/event/20-20-20-3-2/2026-04-30/
LOCATION:YWCA York\, 320 East Market Street\, York\, PA\, 17403
CATEGORIES:Aquatics
END:VEVENT
BEGIN:VEVENT
DTSTART;TZID=America/New_York:20260430T103000
DTEND;TZID=America/New_York:20260430T113000
DTSTAMP:20260421T085758
CREATED:20240104T040609Z
LAST-MODIFIED:20240122T183706Z
UID:10025650-1777545000-1777548600@ywcayork.org
SUMMARY:Mindful Waves
DESCRIPTION:Flow through Yoga\, Pilates and Thai-Chi moves in a relaxing atmosphere using the resistance of water.
URL:https://ywcayork.org/event/mindful-waves-2/2026-04-30/
LOCATION:YWCA York\, 320 East Market Street\, York\, PA\, 17403
CATEGORIES:Aquatics
END:VEVENT
BEGIN:VEVENT
DTSTART;TZID=America/New_York:20260430T120000
DTEND;TZID=America/New_York:20260430T130000
DTSTAMP:20260421T085758
CREATED:20240123T022223Z
LAST-MODIFIED:20240123T022223Z
UID:10032944-1777550400-1777554000@ywcayork.org
SUMMARY:Lap Swim - Afternoon
DESCRIPTION:
URL:https://ywcayork.org/event/lap-swim-afternoon/2026-04-30/
LOCATION:YWCA York\, 320 East Market Street\, York\, PA\, 17403
CATEGORIES:Aquatics
ORGANIZER;CN="Kathy Warner":MAILTO:kwarner@ywcayork.org
END:VEVENT
END:VCALENDAR