BEGIN:VCALENDAR
VERSION:2.0
PRODID:-//YWCA York - ECPv6.15.20//NONSGML v1.0//EN
CALSCALE:GREGORIAN
METHOD:PUBLISH
X-ORIGINAL-URL:https://ywcayork.org
X-WR-CALDESC:Events for YWCA York
REFRESH-INTERVAL;VALUE=DURATION:PT1H
X-Robots-Tag:noindex
X-PUBLISHED-TTL:PT1H
BEGIN:VTIMEZONE
TZID:America/New_York
BEGIN:DAYLIGHT
TZOFFSETFROM:-0500
TZOFFSETTO:-0400
TZNAME:EDT
DTSTART:20270314T070000
END:DAYLIGHT
BEGIN:STANDARD
TZOFFSETFROM:-0400
TZOFFSETTO:-0500
TZNAME:EST
DTSTART:20271107T060000
END:STANDARD
BEGIN:DAYLIGHT
TZOFFSETFROM:-0500
TZOFFSETTO:-0400
TZNAME:EDT
DTSTART:20280312T070000
END:DAYLIGHT
BEGIN:STANDARD
TZOFFSETFROM:-0400
TZOFFSETTO:-0500
TZNAME:EST
DTSTART:20281105T060000
END:STANDARD
BEGIN:DAYLIGHT
TZOFFSETFROM:-0500
TZOFFSETTO:-0400
TZNAME:EDT
DTSTART:20290311T070000
END:DAYLIGHT
BEGIN:STANDARD
TZOFFSETFROM:-0400
TZOFFSETTO:-0500
TZNAME:EST
DTSTART:20291104T060000
END:STANDARD
BEGIN:DAYLIGHT
TZOFFSETFROM:-0500
TZOFFSETTO:-0400
TZNAME:EDT
DTSTART:20300310T070000
END:DAYLIGHT
BEGIN:STANDARD
TZOFFSETFROM:-0400
TZOFFSETTO:-0500
TZNAME:EST
DTSTART:20301103T060000
END:STANDARD
END:VTIMEZONE
BEGIN:VEVENT
DTSTART;TZID=America/New_York:20280814T173000
DTEND;TZID=America/New_York:20280814T181500
DTSTAMP:20260422T080802
CREATED:20240104T043901Z
LAST-MODIFIED:20240122T183158Z
UID:10020505-1849887000-1849889700@ywcayork.org
SUMMARY:Gentle Yoga
DESCRIPTION:Invite relaxation into your home! Build strength and increase flexibility by connecting basic postures\, breath\, and thoughtful movement. These classes are suitable for beginners or those with experience. Zoom links will be sent in the registration confirmation email.
URL:https://ywcayork.org/event/gentle-yoga/2028-08-14/
LOCATION:Virtual
CATEGORIES:Yoga
END:VEVENT
BEGIN:VEVENT
DTSTART;TZID=America/New_York:20280821T173000
DTEND;TZID=America/New_York:20280821T181500
DTSTAMP:20260422T080803
CREATED:20240104T043901Z
LAST-MODIFIED:20240122T183158Z
UID:10020506-1850491800-1850494500@ywcayork.org
SUMMARY:Gentle Yoga
DESCRIPTION:Invite relaxation into your home! Build strength and increase flexibility by connecting basic postures\, breath\, and thoughtful movement. These classes are suitable for beginners or those with experience. Zoom links will be sent in the registration confirmation email.
URL:https://ywcayork.org/event/gentle-yoga/2028-08-21/
LOCATION:Virtual
CATEGORIES:Yoga
END:VEVENT
BEGIN:VEVENT
DTSTART;TZID=America/New_York:20280828T173000
DTEND;TZID=America/New_York:20280828T181500
DTSTAMP:20260422T080803
CREATED:20240104T043901Z
LAST-MODIFIED:20240122T183158Z
UID:10020507-1851096600-1851099300@ywcayork.org
SUMMARY:Gentle Yoga
DESCRIPTION:Invite relaxation into your home! Build strength and increase flexibility by connecting basic postures\, breath\, and thoughtful movement. These classes are suitable for beginners or those with experience. Zoom links will be sent in the registration confirmation email.
URL:https://ywcayork.org/event/gentle-yoga/2028-08-28/
LOCATION:Virtual
CATEGORIES:Yoga
END:VEVENT
BEGIN:VEVENT
DTSTART;TZID=America/New_York:20280904T173000
DTEND;TZID=America/New_York:20280904T181500
DTSTAMP:20260422T080803
CREATED:20240104T043901Z
LAST-MODIFIED:20240122T183158Z
UID:10020508-1851701400-1851704100@ywcayork.org
SUMMARY:Gentle Yoga
DESCRIPTION:Invite relaxation into your home! Build strength and increase flexibility by connecting basic postures\, breath\, and thoughtful movement. These classes are suitable for beginners or those with experience. Zoom links will be sent in the registration confirmation email.
URL:https://ywcayork.org/event/gentle-yoga/2028-09-04/
LOCATION:Virtual
CATEGORIES:Yoga
END:VEVENT
BEGIN:VEVENT
DTSTART;TZID=America/New_York:20280911T173000
DTEND;TZID=America/New_York:20280911T181500
DTSTAMP:20260422T080803
CREATED:20240104T043901Z
LAST-MODIFIED:20240122T183158Z
UID:10020509-1852306200-1852308900@ywcayork.org
SUMMARY:Gentle Yoga
DESCRIPTION:Invite relaxation into your home! Build strength and increase flexibility by connecting basic postures\, breath\, and thoughtful movement. These classes are suitable for beginners or those with experience. Zoom links will be sent in the registration confirmation email.
URL:https://ywcayork.org/event/gentle-yoga/2028-09-11/
LOCATION:Virtual
CATEGORIES:Yoga
END:VEVENT
BEGIN:VEVENT
DTSTART;TZID=America/New_York:20280918T173000
DTEND;TZID=America/New_York:20280918T181500
DTSTAMP:20260422T080803
CREATED:20240104T043901Z
LAST-MODIFIED:20240122T183158Z
UID:10020510-1852911000-1852913700@ywcayork.org
SUMMARY:Gentle Yoga
DESCRIPTION:Invite relaxation into your home! Build strength and increase flexibility by connecting basic postures\, breath\, and thoughtful movement. These classes are suitable for beginners or those with experience. Zoom links will be sent in the registration confirmation email.
URL:https://ywcayork.org/event/gentle-yoga/2028-09-18/
LOCATION:Virtual
CATEGORIES:Yoga
END:VEVENT
BEGIN:VEVENT
DTSTART;TZID=America/New_York:20280925T173000
DTEND;TZID=America/New_York:20280925T181500
DTSTAMP:20260422T080803
CREATED:20240104T043901Z
LAST-MODIFIED:20240122T183158Z
UID:10020511-1853515800-1853518500@ywcayork.org
SUMMARY:Gentle Yoga
DESCRIPTION:Invite relaxation into your home! Build strength and increase flexibility by connecting basic postures\, breath\, and thoughtful movement. These classes are suitable for beginners or those with experience. Zoom links will be sent in the registration confirmation email.
URL:https://ywcayork.org/event/gentle-yoga/2028-09-25/
LOCATION:Virtual
CATEGORIES:Yoga
END:VEVENT
BEGIN:VEVENT
DTSTART;TZID=America/New_York:20281002T173000
DTEND;TZID=America/New_York:20281002T181500
DTSTAMP:20260422T080803
CREATED:20240104T043901Z
LAST-MODIFIED:20240122T183158Z
UID:10020512-1854120600-1854123300@ywcayork.org
SUMMARY:Gentle Yoga
DESCRIPTION:Invite relaxation into your home! Build strength and increase flexibility by connecting basic postures\, breath\, and thoughtful movement. These classes are suitable for beginners or those with experience. Zoom links will be sent in the registration confirmation email.
URL:https://ywcayork.org/event/gentle-yoga/2028-10-02/
LOCATION:Virtual
CATEGORIES:Yoga
END:VEVENT
BEGIN:VEVENT
DTSTART;TZID=America/New_York:20281009T173000
DTEND;TZID=America/New_York:20281009T181500
DTSTAMP:20260422T080803
CREATED:20240104T043901Z
LAST-MODIFIED:20240122T183158Z
UID:10020513-1854725400-1854728100@ywcayork.org
SUMMARY:Gentle Yoga
DESCRIPTION:Invite relaxation into your home! Build strength and increase flexibility by connecting basic postures\, breath\, and thoughtful movement. These classes are suitable for beginners or those with experience. Zoom links will be sent in the registration confirmation email.
URL:https://ywcayork.org/event/gentle-yoga/2028-10-09/
LOCATION:Virtual
CATEGORIES:Yoga
END:VEVENT
BEGIN:VEVENT
DTSTART;TZID=America/New_York:20281016T173000
DTEND;TZID=America/New_York:20281016T181500
DTSTAMP:20260422T080803
CREATED:20240104T043901Z
LAST-MODIFIED:20240122T183158Z
UID:10020514-1855330200-1855332900@ywcayork.org
SUMMARY:Gentle Yoga
DESCRIPTION:Invite relaxation into your home! Build strength and increase flexibility by connecting basic postures\, breath\, and thoughtful movement. These classes are suitable for beginners or those with experience. Zoom links will be sent in the registration confirmation email.
URL:https://ywcayork.org/event/gentle-yoga/2028-10-16/
LOCATION:Virtual
CATEGORIES:Yoga
END:VEVENT
BEGIN:VEVENT
DTSTART;TZID=America/New_York:20281023T173000
DTEND;TZID=America/New_York:20281023T181500
DTSTAMP:20260422T080803
CREATED:20240104T043901Z
LAST-MODIFIED:20240122T183158Z
UID:10020515-1855935000-1855937700@ywcayork.org
SUMMARY:Gentle Yoga
DESCRIPTION:Invite relaxation into your home! Build strength and increase flexibility by connecting basic postures\, breath\, and thoughtful movement. These classes are suitable for beginners or those with experience. Zoom links will be sent in the registration confirmation email.
URL:https://ywcayork.org/event/gentle-yoga/2028-10-23/
LOCATION:Virtual
CATEGORIES:Yoga
END:VEVENT
BEGIN:VEVENT
DTSTART;TZID=America/New_York:20281030T173000
DTEND;TZID=America/New_York:20281030T181500
DTSTAMP:20260422T080803
CREATED:20240104T043901Z
LAST-MODIFIED:20240122T183158Z
UID:10020516-1856539800-1856542500@ywcayork.org
SUMMARY:Gentle Yoga
DESCRIPTION:Invite relaxation into your home! Build strength and increase flexibility by connecting basic postures\, breath\, and thoughtful movement. These classes are suitable for beginners or those with experience. Zoom links will be sent in the registration confirmation email.
URL:https://ywcayork.org/event/gentle-yoga/2028-10-30/
LOCATION:Virtual
CATEGORIES:Yoga
END:VEVENT
BEGIN:VEVENT
DTSTART;TZID=America/New_York:20281106T173000
DTEND;TZID=America/New_York:20281106T181500
DTSTAMP:20260422T080803
CREATED:20240104T043901Z
LAST-MODIFIED:20240122T183158Z
UID:10020517-1857144600-1857147300@ywcayork.org
SUMMARY:Gentle Yoga
DESCRIPTION:Invite relaxation into your home! Build strength and increase flexibility by connecting basic postures\, breath\, and thoughtful movement. These classes are suitable for beginners or those with experience. Zoom links will be sent in the registration confirmation email.
URL:https://ywcayork.org/event/gentle-yoga/2028-11-06/
LOCATION:Virtual
CATEGORIES:Yoga
END:VEVENT
BEGIN:VEVENT
DTSTART;TZID=America/New_York:20281113T173000
DTEND;TZID=America/New_York:20281113T181500
DTSTAMP:20260422T080803
CREATED:20240104T043901Z
LAST-MODIFIED:20240122T183158Z
UID:10020518-1857749400-1857752100@ywcayork.org
SUMMARY:Gentle Yoga
DESCRIPTION:Invite relaxation into your home! Build strength and increase flexibility by connecting basic postures\, breath\, and thoughtful movement. These classes are suitable for beginners or those with experience. Zoom links will be sent in the registration confirmation email.
URL:https://ywcayork.org/event/gentle-yoga/2028-11-13/
LOCATION:Virtual
CATEGORIES:Yoga
END:VEVENT
BEGIN:VEVENT
DTSTART;TZID=America/New_York:20281120T173000
DTEND;TZID=America/New_York:20281120T181500
DTSTAMP:20260422T080803
CREATED:20240104T043901Z
LAST-MODIFIED:20240122T183158Z
UID:10020519-1858354200-1858356900@ywcayork.org
SUMMARY:Gentle Yoga
DESCRIPTION:Invite relaxation into your home! Build strength and increase flexibility by connecting basic postures\, breath\, and thoughtful movement. These classes are suitable for beginners or those with experience. Zoom links will be sent in the registration confirmation email.
URL:https://ywcayork.org/event/gentle-yoga/2028-11-20/
LOCATION:Virtual
CATEGORIES:Yoga
END:VEVENT
BEGIN:VEVENT
DTSTART;TZID=America/New_York:20281127T173000
DTEND;TZID=America/New_York:20281127T181500
DTSTAMP:20260422T080803
CREATED:20240104T043901Z
LAST-MODIFIED:20240122T183158Z
UID:10020520-1858959000-1858961700@ywcayork.org
SUMMARY:Gentle Yoga
DESCRIPTION:Invite relaxation into your home! Build strength and increase flexibility by connecting basic postures\, breath\, and thoughtful movement. These classes are suitable for beginners or those with experience. Zoom links will be sent in the registration confirmation email.
URL:https://ywcayork.org/event/gentle-yoga/2028-11-27/
LOCATION:Virtual
CATEGORIES:Yoga
END:VEVENT
BEGIN:VEVENT
DTSTART;TZID=America/New_York:20281204T173000
DTEND;TZID=America/New_York:20281204T181500
DTSTAMP:20260422T080803
CREATED:20240104T043901Z
LAST-MODIFIED:20240122T183158Z
UID:10020521-1859563800-1859566500@ywcayork.org
SUMMARY:Gentle Yoga
DESCRIPTION:Invite relaxation into your home! Build strength and increase flexibility by connecting basic postures\, breath\, and thoughtful movement. These classes are suitable for beginners or those with experience. Zoom links will be sent in the registration confirmation email.
URL:https://ywcayork.org/event/gentle-yoga/2028-12-04/
LOCATION:Virtual
CATEGORIES:Yoga
END:VEVENT
BEGIN:VEVENT
DTSTART;TZID=America/New_York:20281211T173000
DTEND;TZID=America/New_York:20281211T181500
DTSTAMP:20260422T080803
CREATED:20240104T043901Z
LAST-MODIFIED:20240122T183158Z
UID:10020522-1860168600-1860171300@ywcayork.org
SUMMARY:Gentle Yoga
DESCRIPTION:Invite relaxation into your home! Build strength and increase flexibility by connecting basic postures\, breath\, and thoughtful movement. These classes are suitable for beginners or those with experience. Zoom links will be sent in the registration confirmation email.
URL:https://ywcayork.org/event/gentle-yoga/2028-12-11/
LOCATION:Virtual
CATEGORIES:Yoga
END:VEVENT
BEGIN:VEVENT
DTSTART;TZID=America/New_York:20281218T173000
DTEND;TZID=America/New_York:20281218T181500
DTSTAMP:20260422T080803
CREATED:20240104T043901Z
LAST-MODIFIED:20240122T183158Z
UID:10020523-1860773400-1860776100@ywcayork.org
SUMMARY:Gentle Yoga
DESCRIPTION:Invite relaxation into your home! Build strength and increase flexibility by connecting basic postures\, breath\, and thoughtful movement. These classes are suitable for beginners or those with experience. Zoom links will be sent in the registration confirmation email.
URL:https://ywcayork.org/event/gentle-yoga/2028-12-18/
LOCATION:Virtual
CATEGORIES:Yoga
END:VEVENT
BEGIN:VEVENT
DTSTART;TZID=America/New_York:20281225T173000
DTEND;TZID=America/New_York:20281225T181500
DTSTAMP:20260422T080803
CREATED:20240104T043901Z
LAST-MODIFIED:20240122T183158Z
UID:10020524-1861378200-1861380900@ywcayork.org
SUMMARY:Gentle Yoga
DESCRIPTION:Invite relaxation into your home! Build strength and increase flexibility by connecting basic postures\, breath\, and thoughtful movement. These classes are suitable for beginners or those with experience. Zoom links will be sent in the registration confirmation email.
URL:https://ywcayork.org/event/gentle-yoga/2028-12-25/
LOCATION:Virtual
CATEGORIES:Yoga
END:VEVENT
BEGIN:VEVENT
DTSTART;TZID=America/New_York:20290101T173000
DTEND;TZID=America/New_York:20290101T181500
DTSTAMP:20260422T080803
CREATED:20240104T043901Z
LAST-MODIFIED:20240122T183158Z
UID:10020525-1861983000-1861985700@ywcayork.org
SUMMARY:Gentle Yoga
DESCRIPTION:Invite relaxation into your home! Build strength and increase flexibility by connecting basic postures\, breath\, and thoughtful movement. These classes are suitable for beginners or those with experience. Zoom links will be sent in the registration confirmation email.
URL:https://ywcayork.org/event/gentle-yoga/2029-01-01/
LOCATION:Virtual
CATEGORIES:Yoga
END:VEVENT
BEGIN:VEVENT
DTSTART;TZID=America/New_York:20290108T173000
DTEND;TZID=America/New_York:20290108T181500
DTSTAMP:20260422T080803
CREATED:20240104T043901Z
LAST-MODIFIED:20240122T183158Z
UID:10020526-1862587800-1862590500@ywcayork.org
SUMMARY:Gentle Yoga
DESCRIPTION:Invite relaxation into your home! Build strength and increase flexibility by connecting basic postures\, breath\, and thoughtful movement. These classes are suitable for beginners or those with experience. Zoom links will be sent in the registration confirmation email.
URL:https://ywcayork.org/event/gentle-yoga/2029-01-08/
LOCATION:Virtual
CATEGORIES:Yoga
END:VEVENT
BEGIN:VEVENT
DTSTART;TZID=America/New_York:20290115T173000
DTEND;TZID=America/New_York:20290115T181500
DTSTAMP:20260422T080803
CREATED:20240104T043901Z
LAST-MODIFIED:20240122T183158Z
UID:10020527-1863192600-1863195300@ywcayork.org
SUMMARY:Gentle Yoga
DESCRIPTION:Invite relaxation into your home! Build strength and increase flexibility by connecting basic postures\, breath\, and thoughtful movement. These classes are suitable for beginners or those with experience. Zoom links will be sent in the registration confirmation email.
URL:https://ywcayork.org/event/gentle-yoga/2029-01-15/
LOCATION:Virtual
CATEGORIES:Yoga
END:VEVENT
BEGIN:VEVENT
DTSTART;TZID=America/New_York:20290122T173000
DTEND;TZID=America/New_York:20290122T181500
DTSTAMP:20260422T080803
CREATED:20240104T043901Z
LAST-MODIFIED:20240122T183158Z
UID:10020528-1863797400-1863800100@ywcayork.org
SUMMARY:Gentle Yoga
DESCRIPTION:Invite relaxation into your home! Build strength and increase flexibility by connecting basic postures\, breath\, and thoughtful movement. These classes are suitable for beginners or those with experience. Zoom links will be sent in the registration confirmation email.
URL:https://ywcayork.org/event/gentle-yoga/2029-01-22/
LOCATION:Virtual
CATEGORIES:Yoga
END:VEVENT
END:VCALENDAR